BEGIN:VCALENDAR
VERSION:2.0
PRODID:-//Austrian Business Chamber - ECPv6.15.20//NONSGML v1.0//EN
CALSCALE:GREGORIAN
METHOD:PUBLISH
X-ORIGINAL-URL:https://austrianbc.co.za
X-WR-CALDESC:Events for Austrian Business Chamber
REFRESH-INTERVAL;VALUE=DURATION:PT1H
X-Robots-Tag:noindex
X-PUBLISHED-TTL:PT1H
BEGIN:VTIMEZONE
TZID:Africa/Johannesburg
BEGIN:STANDARD
TZOFFSETFROM:+0200
TZOFFSETTO:+0200
TZNAME:SAST
DTSTART:20250101T000000
END:STANDARD
END:VTIMEZONE
BEGIN:VEVENT
DTSTART;TZID=Africa/Johannesburg:20260506T080000
DTEND;TZID=Africa/Johannesburg:20260506T110000
DTSTAMP:20260423T163941
CREATED:20260422T101740Z
LAST-MODIFIED:20260422T101843Z
UID:3061-1778054400-1778065200@austrianbc.co.za
SUMMARY:Employment Law Update Breakfast Briefing
DESCRIPTION:Dear ABC Members\, \nPlease join us for a Breakfast Briefing on Employment Law Updates – Compliance to Competitive Advantage: Employment Law Updates. \nSouth Africa’s employment law landscape is shifting\, creating real uncertainty for employers. The British Chamber of Business in Southern Africa\, in partnership with ENS\, invites employers to a high-level breakfast briefing on navigating proposed legislative changes. \nJoin us to explore the implications of the Labour Law Amendment Bill 2025\, the new Code of Good Practice on Dismissal\, and parental leave reforms\, and how these developments can reduce risk. improve operational efficiency\, and strengthen employer competitiveness. \nPlease note that RSVP is essential due to limited space. Kindly register online or email members@austrianbc.co.za
URL:https://austrianbc.co.za/event/employment-law-update-breakfast-briefing/
LOCATION:ENS\, Tower 1\, The MARC\, 129 Rivonia Rd\, Sandton\, 2196
CATEGORIES:Networking Event
ATTACH;FMTTYPE=image/jpeg:https://austrianbc.co.za/wp-content/uploads/Employment-Law-Update-Breakfast-Briefing-Wednesday-6th-May-at-08h00.jpg
END:VEVENT
END:VCALENDAR